BEGIN:VCALENDAR
VERSION:2.0
PRODID:-//Plone.org//NONSGML plone.app.event//EN
X-WR-TIMEZONE:America/Argentina/Buenos_Aires
BEGIN:VEVENT
SUMMARY:XIII Workshop da Pós-graduação - 2021
DTSTART;VALUE=DATE:20210928
DTEND;VALUE=DATE:20211002
DTSTAMP:20260421T005253Z
UID:c4a9be4a91df4b468b3fb28cd6c43dc3@if.ufal.br
CONTACT:Wandearley da Silva Dias\, +55 (82) 3214-1423\, wandearley@fis.ufa
 l.br\, http://if.ufal.br/pt-br/pos-graduacao/mestrado-doutorado-em-fisica/
 xiiiwpgf
CREATED:20210812T184308Z
DESCRIPTION:XIII Workshop da Pós-graduação\nRealização 2021\nInstitut
 o de Física\nUniversidade Federal de Alagoas
LAST-MODIFIED:20211126T111214Z
LOCATION:On-line
URL:https://if.ufal.br/pt-br/pos-graduacao/mestrado-doutorado-em-fisica/in
 stitucional/eventos/xiiiwpgf2021-1
END:VEVENT
END:VCALENDAR
